BEGIN:VCALENDAR
VERSION:2.0
PRODID:-//Peepl Events Calendar//Events//
BEGIN:VEVENT
SUMMARY:RT15 Karditurniir 2024
DTSTART;VALUE=DATE-TIME:20240419T150000Z
DTEND;VALUE=DATE-TIME:20240419T160000Z
DTSTAMP;VALUE=DATE-TIME:20240211T115819Z
UID:236580T910781838.events.Token
DESCRIPTION:Tähelepanu\, Vennad ja Oldid!\n\nPikka traditsiooni loova RT15 karditurniiri järjekordne etapp toimub reedel\, 19. aprillil kell 18.00 Laitse Rallypargis.\nSel korral võtame lisaks RT kiireima kardisõitja väljaselgitamisele fookusesse igaühe sõiduoskuste parandamise. Selleks toimub sõitude vahel teooriakoolitus\, kus õigeid sõiduvõtteid ja nippe jagab meie oma karditšempion Kristjan Penjam.\nMõõduvõtt ja autasustamine kuldsete auhindadega Aufortilt toimuvad nii absoluutses kui ka individuaalses kategoorias – võitjaks tuleb nii see\, kes on kiirem teistest\, kui ka see\, kes iseendast.\nMõõduvõttude järgselt on meie päralt Laitse Rallypargi saunaga puhkemaja\, kus katame mõnusa söögilaua\, õlle jm jookidega.\nOsalustasu (99€) eest saad kõik järgneva: proovisõidud\, sõiduteooria koolituse\, võistlussõidud\, auhinnad\, kõva kõhutäie\, õlled\, peomaja koos saunaga ja õhtu parima seltskonna.\nRegistreerimiseks palun märgi ennast TW-s osalejaks ning tasu osalustasu 99€ RT15 laekuri Bert-Ken Raudberg kontole 	EE507700771009521754\, märkides selgitusse “RT15 Karditurniir 2024”.\n\n\n\nLauas\nPriit PihlakasRT15 president 23/24\nRisto KaalmaRT15 sekretär 23/24\n
LOCATION:Laitse Rallypark
PRIORITY:5
URL:https://15-ee.roundtable.world/en/light/activities/236580/NzQwNjEx/OUE1RUM4ODlFOTlBQzE1OUQ2NjU0OTZCMkU4Q0ZDQzU/
END:VEVENT
END:VCALENDAR
